BEGIN:VCALENDAR
VERSION:2.0
X-WR-TIMEZONE:Europe/Paris
PRODID:-//Audencia//NONSGML v1.0//EN
CALSCALE:GREGORIAN
BEGIN:VEVENT
SUMMARY:Webinar: Why some people have great networks and some don't
DTSTART:20190515T130000
DTEND:20190515T141500
UID:448
DTSTAMP:20260425T205727
LOCATION:
DESCRIPTION:The benefits of a strong professional network are well understood. However, many people find networking difficult or unpleasant.  And, even if we understand the importance of our social capital, most of us under-invest in our networks (especially when times are good). \n\nIn this panel webinar Professor Jeffrey Pfeffer (Stanford Graduate School of Business) and bestselling author Dorie Clark will explore what great networkers do to build and maintain their professional connections and how we can all be more strategic about our networking efforts.\n\nDoing more with less\nWhat sets great networkers apart is not activity or effort (though they do work on their networks). Instead, the best networkers take a more strategic - and more consistent - approach to building relationships.\n\nIn this webinar we will look at:\n\n	Why “working the room” is one of the least important networking skills\n	Five networking habits that build ongoing relationships\n	How great networkers seek out opportunities to help andknow what they have to give\n	Why you should look out for interactions that are not happening\n	Why sometimes a smaller but more trusted network is better\n\n\nWe will also discuss some of the mistakes and missteps that harm relationships and networks:\n\n	The five most disliked networking behaviours\n	Three signs to tell you when you are doing the wrong thing\n	Strategies to be more selective, and get more out of, the networking you do\n\n ​\nWe have free tickets for member alumni and students here:  \n \n REGISTRATION\nThere are 200 free tickets for member alumni and students\n(use code “AUDstudent” if the free ticket is not shown)\n \n\nThe live webinar is from 13:00 to 14:15 (Paris time)\non Wednesday 15 May\n\nAbout Jeffrey Pfeffer\nJeffrey Pfeffer is the Thomas D. Dee II Professor of Organisational Behaviour at Stanford's Graduate School of Business where he has taught since 1979. He is the author or co-author of 14 books and more than 150 articles and book chapters, for which he has won numerous awards. His current research focuses on the relationship between time and money, power and leadership in organisations, economics language and assumptions and their effects on management practice, how social science theories become self-fulfilling, barriers to turning knowledge into action and how to overcome them, and evidence-based management and what it is, barriers to its use, and how to implement it.\n\nAbout Dorie Clark\nDorie Clark is an Adjunct Professor of Business Administration at Duke University’s Fuqua School of Business and the author of Reinventing You and Stand Out, which was named the #1 Leadership Book of 2015 by Inc. magazine and was a Washington Post bestseller. \nA former presidential campaign spokeswoman, the New York Times described her as an “expert at self-reinvention and helping others make changes in their lives.”  She is a frequent contributor to the Harvard Business Review, TIME, and Entrepreneur. and is a marketing strategy consultant and speaker for Google, Microsoft, Yale University, Fidelity, the US State Department, and the World Bank.  Learn more at www.dorieclark.com. \n\nWhat you get from the webinar\n\nAll participants receive:\n\n	Access to the webinar and the chance to ask questions live\n	Video recording for download after the event\n	Access to bonus materials resource pack\n
BEGIN:VALARM
ACTION:DISPLAY
TRIGGER:-PT60M
DESCRIPTION:Webinar: Why some people have great networks and some don't
END:VALARM
END:VEVENT
END:VCALENDAR