BEGIN:VCALENDAR
VERSION:2.0
X-WR-TIMEZONE:Europe/Paris
PRODID:-//Audencia//NONSGML v1.0//EN
CALSCALE:GREGORIAN
BEGIN:VEVENT
SUMMARY:Home party in Beijing, China
DTSTART:20190420T190000
DTEND:20190420T210000
UID:447
DTSTAMP:20260425T205736
LOCATION:Arnaud's place Beijing
DESCRIPTION:Join alumni in Beijing for a home party!\n\nAmbassador Katherine is heading to a new city for new challenges.\nThis will be the opportunity for a farewell gathering so please join her on Saturday 20 April from 19:00.\n\n \nPlease register via the WeChat "Audencia Alumni BJ Community" page!
BEGIN:VALARM
ACTION:DISPLAY
TRIGGER:-PT60M
DESCRIPTION:Home party in Beijing, China
END:VALARM
END:VEVENT
END:VCALENDAR