BEGIN:VCALENDAR
VERSION:2.0
X-WR-TIMEZONE:Europe/Paris
PRODID:-//Audencia//NONSGML v1.0//EN
CALSCALE:GREGORIAN
BEGIN:VEVENT
SUMMARY:Afterwork in Shanghai, China
DTSTART:20190507T183000
DTEND:20190507T200000
UID:446
DTSTAMP:20260425T205813
LOCATION:Four Seasons Hotel 500 Weihai Rd Jingan Qu Shanghai 200041
DESCRIPTION:Catch up with the latest news from Audencia and Nantes!\n\nOn the occasion of the Highered Global Talent Summit taking place in Shanghai (8-10 May), Catherine Chassanite, your favourite international careers consultant, will be in town.\n\nJoin Catherine and Audencia colleagues for an informal afterwork gathering at 18:30 on Tuesday 7 May at The Four Seasons Hotel (500 Weihai Rd, Jingan Qu, Shanghai 200041).\n\nPlease register to join this informal alumni networking event.
BEGIN:VALARM
ACTION:DISPLAY
TRIGGER:-PT60M
DESCRIPTION:Afterwork in Shanghai, China
END:VALARM
END:VEVENT
END:VCALENDAR