BEGIN:VCALENDAR
VERSION:2.0
X-WR-TIMEZONE:Europe/Paris
PRODID:-//Audencia//NONSGML v1.0//EN
CALSCALE:GREGORIAN
BEGIN:VEVENT
SUMMARY:RAGEFE conference & networking cocktail in Madrid, Spain
DTSTART:20190425T193000
DTEND:20190425T210000
UID:445
DTSTAMP:20260425T223736
LOCATION:Everis Paseo de la Castellana, 77 28046 Madrid
DESCRIPTION:L’équipe RAGEFE a le plaisir de vous proposer un nouvel événement Alumni Grandes Écoles Françaises le jeudi 25 avril en partenariat avec Everis, société de conseil et outsourcing technologique appartenant au groupe NTT Data.\n \nIl s’agira d’une présentation par un expert pendant 30 minutes et animé par un modérateur, suivi d’une brève séance de questions/réponses et d’un cocktail de networking.\n \nLe programme sera le suivant :\n·  Thème: CROSS REALITY: le futur de la réalité augmentée, virtuelle et mixte\n·  Date : 25 avril 2019\n·  Horaire: 19h30-21h00\n·  Lieu: bureau d’Everis, Paseo de la Castellana, 77, 28046 Madrid\n·  Audience: Limité à 35 personnes max\n·  Prix : Gratuit\n  \nIl est impérativement nécessaire que chaque Alumni confirme son assistance par email à Romain Richard (romain.richard@essec.edu ) avec copie à Erwan Basnier (erwanbake@yahoo.es) et François Blin (fblin@bovemontero.com) qui supervisent ces événements, avant le lundi 22 avril à 18h00. Les inscriptions se feront selon l’ordre d’arrivée des pétitions jusqu’à l’épuisement des places disponibles.\n  \nA très bientôt et en espérant vous voir nombreux le jeudi 25 avril !\n  \nPour tout renseignement complémentaire, n’hésitez pas à nous joindre.\n \nL’équipe organisatrice du RAGEFE.\n \nErwan Basnier / Romain Richard / François Blin\n \n 
BEGIN:VALARM
ACTION:DISPLAY
TRIGGER:-PT60M
DESCRIPTION:RAGEFE conference & networking cocktail in Madrid, Spain
END:VALARM
END:VEVENT
END:VCALENDAR