BEGIN:VCALENDAR
VERSION:2.0
X-WR-TIMEZONE:Europe/Paris
PRODID:-//Audencia//NONSGML v1.0//EN
CALSCALE:GREGORIAN
BEGIN:VEVENT
SUMMARY:Slow pastry workshop in Madrid, Spain
DTSTART:20190409T160000
DTEND:20190409T190000
UID:443
DTSTAMP:20260425T205857
LOCATION:Miele Experience Center Claudio Coello 17 Calle de Claudio Coello #B 28001 Madrid
DESCRIPTION:Atelier Slowpastry!\n\n\nFlorence Elisabeth (GE 98) a lancé il y a quelques mois un projet innovant, Slowpastry. Son principe est de proposer aux entreprises ou particuliers, l’organisation d’événements (networking, formation, team-building) dont la spécificité est d’être systématiquement associés à la haute pâtisserie française.\n\nAprès les Sweet Talks, goûters gourmands autour d’un intervenant, Slowpastry et Florence lancent prochainement les Sweet & Work, workshops de pâtisserie qui ont pour but d’activer des competences comme la créativité, l’innovation, l’agilité, la co-creátion, l’imagination, l'empathie .. !\n\nFlorence invite les membres du réseau RAGEFE, dont Audencia est membre, à participer à ce premier rendez-vous intitulé "ROMPIENDO MOLDES" : un jeu de rôle pâtissier dans une cuisine professionnelle pour aborder une méthodologie de génération d’idée innovantes.\n \n\n\n	QUAND: mardi 9/4/2019 à partir de 16h00\n	OÙ: Miele Expérience Center Claudio Coello (MADRID)\n	INSCRIPTION: suivre ce lien\n	CODE PROMO: code RAGEFE pour 50% de réduction\n\n\n\nContact: Florence@slowpastry.com
BEGIN:VALARM
ACTION:DISPLAY
TRIGGER:-PT60M
DESCRIPTION:Slow pastry workshop in Madrid, Spain
END:VALARM
END:VEVENT
END:VCALENDAR