BEGIN:VCALENDAR
VERSION:2.0
X-WR-TIMEZONE:Europe/Paris
PRODID:-//Audencia//NONSGML v1.0//EN
CALSCALE:GREGORIAN
BEGIN:VEVENT
SUMMARY:Meet & Learn #3 à Genève, Suisse
DTSTART:20190425T191500
DTEND:20190425T210000
UID:441
DTSTAMP:20260425T205720
LOCATION:SPACES Quai de l'île 13 1204 Genève (arrêt de tram « Bel Air »)
DESCRIPTION:Pour la 3ème édition des rencontres « Meet & Learn » à Genève\n\njeudi 25 avril, à partir de 18h30\n\nAudencia Alumni et Grenoble EM Alumni\nvous proposent une table ronde sur le thème :\n \n\nBanques vs. Blockchain: Friends or Foes?\n\nQuels sont les impacts de la blockchain sur les banques ?\n \n\nLes banques traditionnelles semblent perplexes face aux incroyables promesses des technologies blockchain. Hésitant encore entre rejet et adoption, le secteur bancaire est déjà confronté à des évolutions profondes : De nouveaux entrants affichent leurs ambitions de contournement les structures établies alors que d’autres initiatives présentent des solutions ouvertes et s’orientent vers des modèles inclusifs.\n\nArnaud Salomon (CEO, Mt Pelerin) et Assad Mahmood (SPM, Pictet AM), viendront nous présenter leur vision des transformations fondamentales que les technologies blockchain vont provoquer dans les industries bancaires et financières.\n\nCette table ronde sera animée par Nicolas Cambolin (Director, Cross Systems, Audencia GE) et sera suivie d’un cocktail convivial pour poursuivre le débat et faire connaissance.\n\n \nInscrivez-vous !\n\n\nIl vous sera demandé une participation de 18€ (20CHF).\n\nNous vous attendons nombreux, à très bientôt !\n \nL’équipe alumni Audencia et l’équipe alumni GEM\n\n \n
BEGIN:VALARM
ACTION:DISPLAY
TRIGGER:-PT60M
DESCRIPTION:Meet & Learn #3 à Genève, Suisse
END:VALARM
END:VEVENT
END:VCALENDAR