BEGIN:VCALENDAR
VERSION:2.0
X-WR-TIMEZONE:Europe/Paris
PRODID:-//Audencia//NONSGML v1.0//EN
CALSCALE:GREGORIAN
BEGIN:VEVENT
SUMMARY:Visite privée de l'entreprise 'Le Voyage à Nantes'
DTSTART:20190425T183000
DTEND:20190425T210000
UID:440
DTSTAMP:20260425T205853
LOCATION:Le Voyage à Nantes  3, rue Crucy Nantes
DESCRIPTION:EVENEMENT COMPLET\n\nPour les Alumni d'Audencia :\nVous souhaitez faire partie de la liste d'attente ? Merci d'envoyer un e-mail à lcaliez@audencia.com\n\n\n\n\nPlongez au coeur de l'entreprise Le Voyage à Nantes\n\n \nAu-delà de la célèbre ligne verte, vous découvrirez l'entreprise qui fourmille d'idées pour élever Nantes et son agglomération au rang de capitale de la culture.\n\nStratégie, développement, ambition internationale, pluralité des métiers : Aurélie PENEAU (Mahti 89), Directrice du développement touristique, vous expliquera l'impact de cette société publique locale sur l'écosystème nantais, tout en retraçant les étapes structurantes au fil des années. Elle évoquera, rien que pour vous, un avant-goût de la programmation estivale 2019 et répondra à toutes vos questions.\n\nAprès la présentation, une visite des locaux vous sera proposée, suivie d'un verre pour clôturer cet événement.\n \nEvénement ouvert INTER-ALUMNI pour poursuivre le rapprochement de nos réseaux.\nAux Alumni hors Audencia : pour réserver votre place, merci d'envoyer un e-mail à Laëtitia Caliez, lcaliez@audencia.com, en précisant votre nom, prénom et école.\n  \n\n[Gratuit - places limitées]\n\n
BEGIN:VALARM
ACTION:DISPLAY
TRIGGER:-PT60M
DESCRIPTION:Visite privée de l'entreprise 'Le Voyage à Nantes'
END:VALARM
END:VEVENT
END:VCALENDAR