BEGIN:VCALENDAR
VERSION:2.0
X-WR-TIMEZONE:Europe/Paris
PRODID:-//Audencia//NONSGML v1.0//EN
CALSCALE:GREGORIAN
BEGIN:VEVENT
SUMMARY:Welcoming DBAs from Chengdu
DTSTART:20170428T170000
DTEND:20170428T180000
UID:44
DTSTAMP:20260425T223838
LOCATION:Audencia Business School 8 route de la Joneliere 44312 Nantes
DESCRIPTION:Audencia Business School is honoured to welcome a delegation of DBA students from SWUFE, Chengdu.\nDuring the two days they spend in Nantes, this group of business leaders will have the opportunity to visit the city, meet with faculty and learn more about Audencia and its alumni network.
BEGIN:VALARM
ACTION:DISPLAY
TRIGGER:-PT60M
DESCRIPTION:Welcoming DBAs from Chengdu
END:VALARM
END:VEVENT
END:VCALENDAR