BEGIN:VCALENDAR
VERSION:2.0
X-WR-TIMEZONE:Europe/Paris
PRODID:-//Audencia//NONSGML v1.0//EN
CALSCALE:GREGORIAN
BEGIN:VEVENT
SUMMARY:Conférence : Les nouveaux enjeux de la Communication d’Influence
DTSTART:20190401T183000
DTEND:20190401T203000
UID:439
DTSTAMP:20260425T205843
LOCATION:Mediacampus Audencia SciencesCom 41 Boulevard de la Prairie au Duc 44200 Nantes
DESCRIPTION:Audencia SciencesCom vous invite à une conférence en partenariat avec l'agence  Dentsu Aegis Network  sur :\nLes nouveaux enjeux de la Communication d’Influence\n \n\nDans un monde où le numérique a redistribué les cartes de la confiance, la communication d’influence prend une dimension nouvelle face à la publicité traditionnelle. Avec les réseaux sociaux et la croissance du digital, de nouvelles formes d’influenceurs ont rejoint les journalistes des médias traditionnels ; la réputation devient plus que jamais essentielle et la communication doit intégrer des éléments d’authenticité pour être efficace.\n\nFace à ces nouveaux enjeux, Benoît Régent DG du département «ChangeProspective» de DentsuConsulting vous propose une étude qui décrypte les fondamentaux et les opportunités de la communication d’influence :\n \n\n	Comprendre le phénomène : contexte et enjeux.\n	Définitions : qu’est-ce que l’influence ? la réputation ? un influenceur?\n	Les différentes formes de l’influence : PR, E-PR, communication corporate, affaires publiques et lobbying, social media, bouche à oreille…\n	Les  données chiffrées de  la communication d’influence : le marché et les plus  gros influenceurs,  les usages, la réputation des entreprises et institutions en France.\n	Les relations entre célébrités/influenceurs/bloggeurs, médias «traditionnels» et marques.\n	Ethique et dark PR.\n	Comment intégrer l’influence dans sa stratégie de communication\n	Mesurer l’impact et l’efficacité de ces outils.\n	Meilleures pratiques et exemples de cas.\n	Prospective autour de la communication d’influence.\n\n \n 
BEGIN:VALARM
ACTION:DISPLAY
TRIGGER:-PT60M
DESCRIPTION:Conférence : Les nouveaux enjeux de la Communication d’Influence
END:VALARM
END:VEVENT
END:VCALENDAR