BEGIN:VCALENDAR
VERSION:2.0
X-WR-TIMEZONE:Europe/Paris
PRODID:-//Audencia//NONSGML v1.0//EN
CALSCALE:GREGORIAN
BEGIN:VEVENT
SUMMARY:Audencia Alumni Around the World in Brussels, Belgium
DTSTART:20190319T190000
DTEND:20190319T210000
UID:438
DTSTAMP:20260425T205729
LOCATION:Le Grand Central  Rue Belliard 190, 1040 Brussels
DESCRIPTION:Dare to join the Brussels afterwork!\n\nThis is the moment alumni in Brussels have been waiting for - an opportunity to get to know each other better.\n\nJoin them for an informal afterwork gathering at Le Grand Central, Rue Belliard 190, 1040 Brusselson 19 March from 19:00.\n \n\n
BEGIN:VALARM
ACTION:DISPLAY
TRIGGER:-PT60M
DESCRIPTION:Audencia Alumni Around the World in Brussels, Belgium
END:VALARM
END:VEVENT
END:VCALENDAR