BEGIN:VCALENDAR
VERSION:2.0
X-WR-TIMEZONE:Europe/Paris
PRODID:-//Audencia//NONSGML v1.0//EN
CALSCALE:GREGORIAN
BEGIN:VEVENT
SUMMARY:Audencia Alumni Around the World in Rio de Janeiro, Brazil
DTSTART:20190318T180000
DTEND:20190318T200000
UID:437
DTSTAMP:20260425T205846
LOCATION:Miramar Hotel by Windsor Av. Atlântica, 3668 - Copacabana, Rio de Janeiro - RJ, 22070-001, Brazil
DESCRIPTION:Daring to connect with alumni in Rio!\n\nAudencia's very own Michelle Cristy is touring the student fairs in Brazil.\n\nThis is a shout out for alumni who are interested in joining Michelle on 18 March from 19:00 for some short -but sweet- light refreshments.\n\nAnd, for anyone who's willing, join Michelle on the Audencia stand on 19 March whenever you can during the daytime (more information here).\n \n \n
BEGIN:VALARM
ACTION:DISPLAY
TRIGGER:-PT60M
DESCRIPTION:Audencia Alumni Around the World in Rio de Janeiro, Brazil
END:VALARM
END:VEVENT
END:VCALENDAR