BEGIN:VCALENDAR
VERSION:2.0
X-WR-TIMEZONE:Europe/Paris
PRODID:-//Audencia//NONSGML v1.0//EN
CALSCALE:GREGORIAN
BEGIN:VEVENT
SUMMARY:Audencia Alumni Around the World in Vancouver, Canada
DTSTART:20190321T170000
DTEND:20190321T190000
UID:436
DTSTAMP:20260425T205856
LOCATION:Devil's Elbow 562 Beatty St, Vancouver, BC V6B 2L3, Canada
DESCRIPTION:Daring to meet at the Devil's Elbow!\n\nCome and find out more about the alumni who dare to get together at this ale and smoke house on 21 March from17:00.\n\nHow will they recognise each other?\nWe're looking forward to hearing how this one unfolds: join them if you can!\n\n \n
BEGIN:VALARM
ACTION:DISPLAY
TRIGGER:-PT60M
DESCRIPTION:Audencia Alumni Around the World in Vancouver, Canada
END:VALARM
END:VEVENT
END:VCALENDAR