BEGIN:VCALENDAR
VERSION:2.0
X-WR-TIMEZONE:Europe/Paris
PRODID:-//Audencia//NONSGML v1.0//EN
CALSCALE:GREGORIAN
BEGIN:VEVENT
SUMMARY:Audencia Alumni Around the World in Mexico City, Mexico
DTSTART:20190320T193000
DTEND:20190320T210000
UID:435
DTSTAMP:20260425T205715
LOCATION:Bar Romelia Tabasco 99, Roma Norte, CDMX
DESCRIPTION:audaz - daring - audace!\n\nCome and be daring in Mexico City by joining alumni and friends on 20 March for an afterwork gathering from 19:30 at Bar Romelia, Tabasco 99, Roma Norte, CDMX\n\n \n
BEGIN:VALARM
ACTION:DISPLAY
TRIGGER:-PT60M
DESCRIPTION:Audencia Alumni Around the World in Mexico City, Mexico
END:VALARM
END:VEVENT
END:VCALENDAR