BEGIN:VCALENDAR
VERSION:2.0
X-WR-TIMEZONE:Europe/Paris
PRODID:-//Audencia//NONSGML v1.0//EN
CALSCALE:GREGORIAN
BEGIN:VEVENT
SUMMARY:Club Management & RH - #NégoTraining débarque à Paris pour les diplômées
DTSTART:20190418T183000
DTEND:20190418T223000
UID:434
DTSTAMP:20260425T210028
LOCATION:Audencia Campus Paris, 95 rue Falguière, 75015 PARIS
DESCRIPTION:Chères Diplômées, \n\n#NégoTraining dont vous avez beaucoup entendu parler et attendu est enfin arrivé à Paris !\n\nC'est quoi #NégoTraining ?\nL’écart de salaires entre femmes et hommes est aujourd’hui équivalent à 23% en France. Pour réduire cet écart, l’accompagnement à la négociation est un des leviers majeurs (avec la sensibilisation des entreprises et la lutte contre les stéréotypes).\nQu'entend-on par négociation ? La négociation salariale comprend certes le salaire mais aussi la rémunération variable, la flexibilité du temps de travail, les avantages en nature, l'accès à la formation…\nFort de ce constat, et soucieuse d’avoir un impact sur les entreprises et la société, la chaire RSE d’Audencia s’est associée aux réseaux de femmes et aux acteurs publics et privés de la Plateforme RSE de la métropole nantaise pour proposer un module d'accompagnement gratuit de 3 heures en collectif, animé par des expert(e)s de l’égalité professionnelle et membres de la société civile (DRH, dirigeant.e.s, syndicats de salarié.e.s...) qui donneront aux femmes les clés d’une négociation réussie.\n\nLa toute première session de #NégoTraining aura lieu le jeudi 18 avril à partir de 18h30 sur le campus parisien.\nCet atelier sera animé par Dr Christine NASCHBERGER et durera 3 heures environ.\n\nLes inscriptions se font en 2 étapes :\n- Remplir ce formulaire\n- Cliquer sur le bouton S'inscrire\n\nAlors, n'attendez plus et venez nombreuses !\n\n
BEGIN:VALARM
ACTION:DISPLAY
TRIGGER:-PT60M
DESCRIPTION:Club Management & RH - #NégoTraining débarque à Paris pour les diplômées
END:VALARM
END:VEVENT
END:VCALENDAR