BEGIN:VCALENDAR
VERSION:2.0
X-WR-TIMEZONE:Europe/Paris
PRODID:-//Audencia//NONSGML v1.0//EN
CALSCALE:GREGORIAN
BEGIN:VEVENT
SUMMARY:TROPHEE GOLF AUDENCIA 2019
DTSTART:20190705T123000
DTEND:20260425T223845
UID:433
DTSTAMP:20260425T223845
LOCATION:Golf Ile d'Or 49270 La Varenne
DESCRIPTION:AU GOLF ILE D'OR\n\nVenez partager une partie amicale, vendredi 5 juillet 2019 après-midi !\n\n\nParcours de qualité | Cadre exceptionnel​\n\n\nMichaël Thoby (ExecMBA 13), Ambassadeur du Club Golf et Président d’EMOTIC, et Gérard Crépel (GE 79) ont le plaisir de vous convier au Trophée Golf Audencia, le 5 juillet après-midi dans le cadre exceptionnel du Golf Ile d'Or. Cet événement, gratuit, est sponsorisé par Audencia Alumni, CIC Banque Privée et EMOTIC.\n \nPlaces limitées à 54 joueurs\nAlumni, entrepreneurs et cadres des entreprises de la région nantaise\n\nContact inscription pour les non Alumni : Laëtitia Caliez, lcaliez@audencia.com\nen indiquant les coordonnées de la personne non alumni à inscrire (société, nom, prénom, e-mail, téléphone). \n\n\n \n\nUNE CUVEE SPECIALE GOLF\nCette année, nous offrons la Cuvée du Trophée Golf Audencia 2019 pour chaque don supérieur à 100€ effectué à la Fondation de France (avant le 21 juin). Le design représente le trou n°15 du Golf Ile d'Or. Vos dons permettront à des étudiants de découvrir le monde de la Tech lors du CES de Las Vegas et de rencontrer les diplômés et l'écosystème dynamique de la Silicon Valley. Une opportunité unique pour ces talents de demain d'inscrire leur projet dans un contexte international.\n>> Plus d'infos ici.\n\n\n\n \n\nAU PROGRAMME DE L'APRES-MIDI\n\nQuel que soit votre niveau, débutant ou expert, cette journée est pour vous !\n\n• Accueil à 12h30\n• Pour les avertis : une formule de jeu ludique en Scramble à 3 - Shotgun à 13h30 - concours sur un trou du parcours contre le Pro., Franck Mora. \n• Pour les non golfeurs : une initiation à partir de 17h est organisée afin de finir cette journée tous ensemble lors de la remise des prix.\n• Remise des prix à 18h\n• Soirée cocktail vers 19h au Club House du Golf.\n\n\n\n\nCet événement gratuit est sponsorisé par Audencia Alumni, CIC et Emotic.\n              \n\n\n 
BEGIN:VALARM
ACTION:DISPLAY
TRIGGER:-PT60M
DESCRIPTION:TROPHEE GOLF AUDENCIA 2019
END:VALARM
END:VEVENT
END:VCALENDAR