BEGIN:VCALENDAR
VERSION:2.0
X-WR-TIMEZONE:Europe/Paris
PRODID:-//Audencia//NONSGML v1.0//EN
CALSCALE:GREGORIAN
BEGIN:VEVENT
SUMMARY:Club Activités Culturelles - Conférence-débat sur le thème d'intégration en France
DTSTART:20190522T190000
DTEND:20190522T223000
UID:432
DTSTAMP:20260425T210437
LOCATION:Audencia Paris Campus, 95 rue Falguière, 75015 PARIS
DESCRIPTION:\nIl y a un siècle, après la révolution russe, les Russes blancs fuient leur patrie et vont se réfugier à Paris et dans ses banlieues. Comment, spoliés de tous leurs biens, vont-ils s’adapter et s’intégrer dans la société française ?\nCarole Sorreau, au travers de son roman historique « De la Néva à la Seine » inspiré de faits réels, vous fera voyager dans le Paris russophone le mercredi 22 mai à partir de 19h sur le campus parisien dans le 15e.\n\nLié à ce thème d'intégration, quelques diplômés étrangers interviendront aussi pour partager et témoigner leurs expériences en France.\n\nCet échange sera suivi d'un cocktail.\n\nAlors, partagez cet événement avec vos camarades de promo et n'oubliez pas de vous inscrire ici.\n\n=================\n\nA century ago, after the Russian revolution, white Russians fled their homeland and took refuge in Paris and its suburbs. How, deprived of all their possessions, will they adapt and integrate into French society? \nCarole Sorreau, through her historical novel "From the Neva to the Seine" inspired by real events, will take you to Russian-speaking Paris on Wednesday, 22nd May from 7pm on the Paris campus in the 15th.\n\nLinked to this integration theme, a few foreign graduates will also come to share and testify about their experiences in France.\n\nThis exchange will be followed by a cocktail.\n\nSo, share this event with your classmates and don't forget to register here.\n\nOur Guest Speaker:\n\n\n\nCarole SORREAU, Corporate Director of Institutional Relations INVIVO\n\n\n\n\nOur Alumni:\n\n\n\nDaisy WANG (IMM 12), CRM Account Manager, Huawei Technologies\n\n\n\n\n\nLorena RODRIGUEZ MENDOZA (IMM 12), Salesforce Alliance Manager, IBM iX\n\n\n\n\n\n\nYang CHEN (MSCPM 15), Chef de projet, Eberspaecher\n\n\n\n\n\n 
BEGIN:VALARM
ACTION:DISPLAY
TRIGGER:-PT60M
DESCRIPTION:Club Activités Culturelles - Conférence-débat sur le thème d'intégration en France
END:VALARM
END:VEVENT
END:VCALENDAR