BEGIN:VCALENDAR
VERSION:2.0
X-WR-TIMEZONE:Europe/Paris
PRODID:-//Audencia//NONSGML v1.0//EN
CALSCALE:GREGORIAN
BEGIN:VEVENT
SUMMARY:MOS  - Conférence - JOP 2024: Quelles transformations pour la ville de Paris ?
DTSTART:20190321T181500
DTEND:20190321T201500
UID:431
DTSTAMP:20260425T205908
LOCATION:Audencia Business School, 95 Rue Falguière, 75015 Paris
DESCRIPTION:\nDans le cadre d’un projet pédagogique mené avec les étudiants du Mastère Spécialisé en Management des Organisations de Sport (MS MOS) d’Audencia Business School, le Think tank Sport et Citoyenneté et Audencia Business School organiseront une conférence visant à mettre en lumière les champs de transformations possibles de la ville de Paris en lien avec l’accueil des JOP.\n\nLa conférence qui se déroulera au campus parisien est gratuite mais l’inscription est obligatoire.\n\nCette conférence est ouverte à tous.\n \nVoici le lien pour s’inscrire : https://www.eventbrite.fr/e/billets-conference-jop-2024-quelles-transformations-pour-la-ville-de-paris-57708661159\n 
BEGIN:VALARM
ACTION:DISPLAY
TRIGGER:-PT60M
DESCRIPTION:MOS  - Conférence - JOP 2024: Quelles transformations pour la ville de Paris ?
END:VALARM
END:VEVENT
END:VCALENDAR