BEGIN:VCALENDAR
VERSION:2.0
X-WR-TIMEZONE:Europe/Paris
PRODID:-//Audencia//NONSGML v1.0//EN
CALSCALE:GREGORIAN
BEGIN:VEVENT
SUMMARY:Audencia Alumni Around the World in Miami, USA
DTSTART:20190321T190000
DTEND:20190321T210000
UID:430
DTSTAMP:20260425T205849
LOCATION:Casa Tua Cucina 70 SW 7th St, Miami, FL 33130, USA
DESCRIPTION:The weather forecast in Miami is fine!\n\nWith temperatures in the high twenties, skies will be mostly sunny with a low chance of rain. Time for alumni to be out and about for an afterwork gathering. Join them on 21 March from 19:00 at Casa Tua Cucina, 70 SW 7th St, Miami.\n\n \n
BEGIN:VALARM
ACTION:DISPLAY
TRIGGER:-PT60M
DESCRIPTION:Audencia Alumni Around the World in Miami, USA
END:VALARM
END:VEVENT
END:VCALENDAR