BEGIN:VCALENDAR
VERSION:2.0
X-WR-TIMEZONE:Europe/Paris
PRODID:-//Audencia//NONSGML v1.0//EN
CALSCALE:GREGORIAN
BEGIN:VEVENT
SUMMARY:Cocktail in Hong Kong
DTSTART:20170410T180000
DTEND:20170410T210000
UID:43
DTSTAMP:20260425T205727
LOCATION:Résidence de France (Consulate) 8 Mount Cameron Road The Peak Hong Kong
DESCRIPTION:The Pays de la Loire Regional Council will soon open three offices at Business France in key cities, including one in Hong Kong. In each office a "special envoy" will be appointed who will available for companies and higher education institutions of the Pays de la Loire Region. This agreement is unique in France since no other administrative Region cooperates within the context of an agreement with Business France.\n \nThe office in Hong Kong will be inaugurated on 10th April :\n \nLocation :\nRésidence de France (Consulate) – 8 Mount Cameron Road – The Peak \n \nAgenda :\n18h-19h30 : Round table « Invest in Pays de la Loire » (HK investors and decision-makers)\n19h30-21h : Networking evening « Pays de la Loire meets Hong Kong » (cocktail)\n\nFor more information about this initiative, go to page 5 of "Ma Région" the Pays de la Loire monthly magazine.
BEGIN:VALARM
ACTION:DISPLAY
TRIGGER:-PT60M
DESCRIPTION:Cocktail in Hong Kong
END:VALARM
END:VEVENT
END:VCALENDAR