BEGIN:VCALENDAR
VERSION:2.0
X-WR-TIMEZONE:Europe/Paris
PRODID:-//Audencia//NONSGML v1.0//EN
CALSCALE:GREGORIAN
BEGIN:VEVENT
SUMMARY:Audencia Alumni Around the World in Seoul, Korea
DTSTART:20190321T183000
DTEND:20190321T203000
UID:429
DTSTAMP:20260425T205816
LOCATION:Côté Jardin 120 Bogwang-ro, Itaewon 1(il)-dong, Yongsan-gu Seoul
DESCRIPTION:Seoul, the city of daring!\n\nAlumni in Seoul have discovered that they are not alone. For the first time ever, they will organise an afterwork to meet and learn more about one another. Join them on 21 March from 18:30 at the oh so French "Côté Jardin", a charming French restaurant near itaewon station! \n\n \n
BEGIN:VALARM
ACTION:DISPLAY
TRIGGER:-PT60M
DESCRIPTION:Audencia Alumni Around the World in Seoul, Korea
END:VALARM
END:VEVENT
END:VCALENDAR