BEGIN:VCALENDAR
VERSION:2.0
X-WR-TIMEZONE:Europe/Paris
PRODID:-//Audencia//NONSGML v1.0//EN
CALSCALE:GREGORIAN
BEGIN:VEVENT
SUMMARY:Audencia Alumni Around the World in Algiers, Algeria
DTSTART:20190316T170000
DTEND:20190316T190000
UID:428
DTSTAMP:20260425T205729
LOCATION:HOTEL MERCURE Route de l'université, Cité 5 juillet Bab Ezzouar, Alger 16311  Algeria
DESCRIPTION:Meet us in Algiers الجزائر‎ Alger\n\nWhatever your chosen language, be daring and join Audencians in Algeria's capital city for an alumni gathering.\n \n\n	When? Saturday 16 March at 17:00\n	Where? At the HOTEL MERCURE - Route de l'université, Cité 5 juillet Bab Ezzouar, Alger 16311\n	 \n\n \n\n
BEGIN:VALARM
ACTION:DISPLAY
TRIGGER:-PT60M
DESCRIPTION:Audencia Alumni Around the World in Algiers, Algeria
END:VALARM
END:VEVENT
END:VCALENDAR