BEGIN:VCALENDAR
VERSION:2.0
X-WR-TIMEZONE:Europe/Paris
PRODID:-//Audencia//NONSGML v1.0//EN
CALSCALE:GREGORIAN
BEGIN:VEVENT
SUMMARY:Audencia Alumni Around the World in Copenhagen, Denmark
DTSTART:20190323T110000
DTEND:20190323T140000
UID:427
DTSTAMP:20260425T205953
LOCATION:FAR's DRENG, Rosengården 12, 1174 København K
DESCRIPTION:Daring to brunch in Copenhagen.\n\nFor their inaugural gathering, alumni have decided to take it nice and easy and get together over brunch.\n\nJoin them from 10:45 on Saturday 23 March at FAR's DRENG, Rosengården 12, 1174 København K.\n\n \n
BEGIN:VALARM
ACTION:DISPLAY
TRIGGER:-PT60M
DESCRIPTION:Audencia Alumni Around the World in Copenhagen, Denmark
END:VALARM
END:VEVENT
END:VCALENDAR