BEGIN:VCALENDAR
VERSION:2.0
X-WR-TIMEZONE:Europe/Paris
PRODID:-//Audencia//NONSGML v1.0//EN
CALSCALE:GREGORIAN
BEGIN:VEVENT
SUMMARY:Audencia Alumni Around the World in Dubai, UAE
DTSTART:20190321T190000
DTEND:20190321T210000
UID:426
DTSTAMP:20260425T205949
LOCATION:Bistro des Arts Dubai Marina Promenade, Marina Mall Area Dubai UAE
DESCRIPTION:Daringly and quintissentially Parisian in the heart of Dubai\n\nThe Bistro des Arts the place to be for a slice of France.\nCome and join Audencia alumni and friends for a relaxed afterwork from 19:00 on 21 March.\n\n \n
BEGIN:VALARM
ACTION:DISPLAY
TRIGGER:-PT60M
DESCRIPTION:Audencia Alumni Around the World in Dubai, UAE
END:VALARM
END:VEVENT
END:VCALENDAR