BEGIN:VCALENDAR
VERSION:2.0
X-WR-TIMEZONE:Europe/Paris
PRODID:-//Audencia//NONSGML v1.0//EN
CALSCALE:GREGORIAN
BEGIN:VEVENT
SUMMARY:Audencia Alumni Around the World in Nairobi, Kenya
DTSTART:20190320T180000
DTEND:20190320T200000
UID:425
DTSTAMP:20260425T205840
LOCATION:J's Bar Muthangari Drive, Westlands, Nairobi Kenya
DESCRIPTION:Daring to put Nairobi on the map!\n\nIntrepid alumni from Kenya's capital city are delighted to seize the opportunity of "Audencia Around the World" to organise their inaugural gathering.\n\nJoin them on 20 March from 18:00 at J's Bar in Westlands, Nairobi.\n\n \n
BEGIN:VALARM
ACTION:DISPLAY
TRIGGER:-PT60M
DESCRIPTION:Audencia Alumni Around the World in Nairobi, Kenya
END:VALARM
END:VEVENT
END:VCALENDAR