BEGIN:VCALENDAR
VERSION:2.0
X-WR-TIMEZONE:Europe/Paris
PRODID:-//Audencia//NONSGML v1.0//EN
CALSCALE:GREGORIAN
BEGIN:VEVENT
SUMMARY:Audencia Alumni Around the World in Abidjan, Ivory Coast
DTSTART:20190319T190000
DTEND:20190319T210000
UID:424
DTSTAMP:20260425T205733
LOCATION:Bushman Café Riviera 3 direction M'Pouto, Quartier SIAD, Cocody Abidjan
DESCRIPTION:Definition: daring /ˈdɛːrɪŋ/: adjective (of a person or action) adventurous or audaciously bold!\n\nJoin the adventurous and audacious alumni of Abidjan at their informal afterwork gathering at the Bushman Café at 19:00 on 19 March.\n\n \n
BEGIN:VALARM
ACTION:DISPLAY
TRIGGER:-PT60M
DESCRIPTION:Audencia Alumni Around the World in Abidjan, Ivory Coast
END:VALARM
END:VEVENT
END:VCALENDAR