BEGIN:VCALENDAR
VERSION:2.0
X-WR-TIMEZONE:Europe/Paris
PRODID:-//Audencia//NONSGML v1.0//EN
CALSCALE:GREGORIAN
BEGIN:VEVENT
SUMMARY:Audencia Alumni Around the World in San Francisco, USA
DTSTART:20190317T100000
DTEND:20190317T140000
UID:423
DTSTAMP:20260425T205839
LOCATION:Ocean Beach Stairwell 17 across from Beach Chalet 1000 Great Highway San Francisco, USA
DESCRIPTION:Daring on a Sunday!\n\nAudencia alumni in San Francisco are looking forward to getting together for an impactful and daring gathering.\n\nBeach clean from 10:00 to 12:00\n\n\n	Meeting point Ocean Beach Stairwell 17 across from Beach Chalet, 1000 Great Highway, San Francisco\n	Please register by 17 March for the beach clean\n\n\nBrunch/Lunch from 12:15 to 14:00\n\n\n	Park Chalet, 1000 Great Hwy in Golden Gate Park, SF\n	Please register by 9 March for Brunch/Lunch\n\n\n
BEGIN:VALARM
ACTION:DISPLAY
TRIGGER:-PT60M
DESCRIPTION:Audencia Alumni Around the World in San Francisco, USA
END:VALARM
END:VEVENT
END:VCALENDAR