BEGIN:VCALENDAR
VERSION:2.0
X-WR-TIMEZONE:Europe/Paris
PRODID:-//Audencia//NONSGML v1.0//EN
CALSCALE:GREGORIAN
BEGIN:VEVENT
SUMMARY:Audencia Alumni Around the World in Manila, Philippines
DTSTART:20190321T180000
DTEND:20190321T210000
UID:422
DTSTAMP:20260425T205910
LOCATION:Dr. Wine 5921 Algier, Poblacion, Makati, 1210 Metro Manila Philippines
DESCRIPTION:Venez nous retrouver chez Dr. Wine!\n\nAlumni in Manila are daring to add a French theme to their event by holding it in a French-style bistro.\n\nCome and join them from 18:00 on 21 March at Dr. Wine.\nExchange students and friends of Audencia are also very welcome.\n\n\n
BEGIN:VALARM
ACTION:DISPLAY
TRIGGER:-PT60M
DESCRIPTION:Audencia Alumni Around the World in Manila, Philippines
END:VALARM
END:VEVENT
END:VCALENDAR