BEGIN:VCALENDAR
VERSION:2.0
X-WR-TIMEZONE:Europe/Paris
PRODID:-//Audencia//NONSGML v1.0//EN
CALSCALE:GREGORIAN
BEGIN:VEVENT
SUMMARY:Audencia Alumni Around the World in Toronto, Canada
DTSTART:20190316T160000
DTEND:20190316T180000
UID:421
DTSTAMP:20260425T205721
LOCATION:DROM Taberna 458 Queen St W, Toronto, ON M5V 2A8, Canada​
DESCRIPTION:Dare to organise Toronto’s first ever alumni event! \n\nTwo alumni - Hélène and Siddharth - who have never met before but who have travelled around the world to settle in Toronto are coordinating a gathering especially for Audencia graduates in Toronto.\n\nJoin them at the DROM Taberna (458 Queen St W, Toronto, ON M5V 2A8) ​on the afternoon of Saturday 16 March to discover and make friends with the inspiring alumni that live in your city:\n\n \n
BEGIN:VALARM
ACTION:DISPLAY
TRIGGER:-PT60M
DESCRIPTION:Audencia Alumni Around the World in Toronto, Canada
END:VALARM
END:VEVENT
END:VCALENDAR