BEGIN:VCALENDAR
VERSION:2.0
X-WR-TIMEZONE:Europe/Paris
PRODID:-//Audencia//NONSGML v1.0//EN
CALSCALE:GREGORIAN
BEGIN:VEVENT
SUMMARY:Networking in Lima, Peru
DTSTART:20170908T190000
DTEND:20170908T213000
UID:42
DTSTAMP:20260425T205839
LOCATION:JW Marriott Hotel Lima Malecon De La Reserva 615, Miraflores Lima, Lima 18 Peru
DESCRIPTION:\n\nAMBA, the Association of MBAs, is organising a networking event.\n\nJoin them in the capital and largest city of Peru, Lima, on 8 September 2017 for an evening of networking and relationship-building with students and alumni of AMBA-accredited programmes.\n \n\nRegister for free today >>\n\n\nEvent Timetable: \n18.30 – 19.00   Registration Opens\n19.00 – 20.00   AMBA Membership Presentation\n20.00 – 21.00   Networking and Refreshments\n\nLocation: JW Marriott Hotel Lima\nDate: 8 September 2017\nTime: 19.00 to 21.30\nAddress: Malecon De La Reserva 615, Miraflores, Lima, Lima 18 Peru\n\nThis event is aimed at alumni of AMBA-accredited programmes. At Audencia, these programmes are: Executive MBA, MBA in Responsible Management and Master in Management (Grande Ecole Programme). The event is free for AMBA members but registration is required. Registering as an alumus/alumna of an AMBA-accredited programme takes only a few minutes.\n\nRead more about the event here.
BEGIN:VALARM
ACTION:DISPLAY
TRIGGER:-PT60M
DESCRIPTION:Networking in Lima, Peru
END:VALARM
END:VEVENT
END:VCALENDAR