BEGIN:VCALENDAR
VERSION:2.0
X-WR-TIMEZONE:Europe/Paris
PRODID:-//Audencia//NONSGML v1.0//EN
CALSCALE:GREGORIAN
BEGIN:VEVENT
SUMMARY:Audencia Alumni Around the World in Mumbai, India
DTSTART:20190319T190000
DTEND:20190319T210000
UID:419
DTSTAMP:20260425T205852
LOCATION:Shizusan Shophouse & Bar, Skyzone, Highstreet Phoenix, 462, Senapati Bapat Marg, Lower Parel, Mumbai, Maharashtra 400013
DESCRIPTION:Daring to meet in Mumbai! \n\nAudencia Alumni Sameer and Nushad are meeting for the first time for the Mumbai Around the World event.\n\nIf, like them, you are feeling daring, come and join them on 19 March.\n\n \n\n
BEGIN:VALARM
ACTION:DISPLAY
TRIGGER:-PT60M
DESCRIPTION:Audencia Alumni Around the World in Mumbai, India
END:VALARM
END:VEVENT
END:VCALENDAR