BEGIN:VCALENDAR
VERSION:2.0
X-WR-TIMEZONE:Europe/Paris
PRODID:-//Audencia//NONSGML v1.0//EN
CALSCALE:GREGORIAN
BEGIN:VEVENT
SUMMARY:Audencia Alumni Around the World in Amsterdam, The Netherlands
DTSTART:20190320T183000
DTEND:20190320T210000
UID:418
DTSTAMP:20260425T205821
LOCATION:Herengracht 130 1015 BV Amsterdam
DESCRIPTION:Daring to confront the elements!\n\nFor its participation in Audencia Around the World, the Amsterdam alumni chapter will be mixing fire and water.\n\nJoin them on 20 March from 18:30 at Herengracht 130, 1015 BV Amsterdam for a canal-themed barbecue.\n\n \n
BEGIN:VALARM
ACTION:DISPLAY
TRIGGER:-PT60M
DESCRIPTION:Audencia Alumni Around the World in Amsterdam, The Netherlands
END:VALARM
END:VEVENT
END:VCALENDAR