BEGIN:VCALENDAR
VERSION:2.0
X-WR-TIMEZONE:Europe/Paris
PRODID:-//Audencia//NONSGML v1.0//EN
CALSCALE:GREGORIAN
BEGIN:VEVENT
SUMMARY:Audencia Alumni Around the World in Tokyo, Japan
DTSTART:20190320T190000
DTEND:20190320T210000
UID:417
DTSTAMP:20260425T205728
LOCATION:Tokyo Exact location coming soon!
DESCRIPTION:They are the epitome of daring!\n\nAudencia's Tokyo community is delighted to be part of Around the World and is looking forward to being part of this global event.\nJoin them on the evening of Wednesday 20 March at a location which will be revealed soon.\n\nWatch this space!\n\n \n
BEGIN:VALARM
ACTION:DISPLAY
TRIGGER:-PT60M
DESCRIPTION:Audencia Alumni Around the World in Tokyo, Japan
END:VALARM
END:VEVENT
END:VCALENDAR