BEGIN:VCALENDAR
VERSION:2.0
X-WR-TIMEZONE:Europe/Paris
PRODID:-//Audencia//NONSGML v1.0//EN
CALSCALE:GREGORIAN
BEGIN:VEVENT
SUMMARY:Club Audencia Pour Elles - "La Parisienne" Run For Women
DTSTART:20190908T090000
DTEND:20190908T180000
UID:416
DTSTAMP:20260425T205951
LOCATION:Champs de Mars, Paris
DESCRIPTION:Joggeuse en herbe ou sportive accomplie ? Peu importe, la distance de la course est accessible. \n\nDe la Tour Eiffel au Champs de Mars, venez rejoindre l’équipe Audencia Alumni pour courir « La Parisienne » sur une boucle de 6,7 km le dimanche 8 septembre 2019, entre diplômées d’Audencia. \n\nVenez relever un défi, vous amuser, vous dépenser ou tout simplement passer un bon moment.\n\nEn résumé :  \n- Vous êtes diplômée Audencia \n- Vous avez envie de bouger et d’avoir du fun\n \nAlors, inscrivez-vous nombreuses !\n== On a pu récupérer encore 3 dossards pour cette course. Merci de contacter Nushad Merchant : nushad.merchant@audencia.com ==\n\nA très bientôt, \n\nFlavie Lorre (GE 98) \nPrésidente Audencia Alumni
BEGIN:VALARM
ACTION:DISPLAY
TRIGGER:-PT60M
DESCRIPTION:Club Audencia Pour Elles - "La Parisienne" Run For Women
END:VALARM
END:VEVENT
END:VCALENDAR