BEGIN:VCALENDAR
VERSION:2.0
X-WR-TIMEZONE:Europe/Paris
PRODID:-//Audencia//NONSGML v1.0//EN
CALSCALE:GREGORIAN
BEGIN:VEVENT
SUMMARY:Club Activités Culturelles - Vernissage de l'artiste Blandine (GE 94)
DTSTART:20190321T180000
DTEND:20190321T220000
UID:415
DTSTAMP:20260425T223839
LOCATION:ADDA & TAXIE, 35 avenue Matignon, 75008 PARIS
DESCRIPTION:\nVenez partager un verre et parler d’art autour des peintures de Blandine (GE 94) à la galerie ADDA & TAXIE de 18h à 22h.\n\nDans le cadre de ce vernissage, Anna, Responsable de la galerie, fera un exposé sur l’utilité d’un achat d’art aujourd’hui vers 19h30.\n\nAlors inscrivez-vous et venez nombreux !\n\n=================\n \nCome and share a drink and talk about art around Blandine's paintings (GE 94) at the ADDA & TAXIE gallery from 6pm to 10pm.\n\nAs part of this opening, Anna, Head of the Gallery, will give a presentation on the usefulness of purchasing art today at around 7:30 pm.\n\nSo come on then, register and come in large numbers!\n\n\n\n\nWebsite : www.envied1peinture.com\nInstagram : blandine.ek\n 
BEGIN:VALARM
ACTION:DISPLAY
TRIGGER:-PT60M
DESCRIPTION:Club Activités Culturelles - Vernissage de l'artiste Blandine (GE 94)
END:VALARM
END:VEVENT
END:VCALENDAR