BEGIN:VCALENDAR
VERSION:2.0
X-WR-TIMEZONE:Europe/Paris
PRODID:-//Audencia//NONSGML v1.0//EN
CALSCALE:GREGORIAN
BEGIN:VEVENT
SUMMARY:Audencia Alumni Around the World in Shenzhen, China
DTSTART:20190322T180000
DTEND:20190322T220000
UID:414
DTSTAMP:20260425T205907
LOCATION:Venice Raytour Hotel, 1F Raytour, Shenzhen
DESCRIPTION:Be a part of the China Alumni Night\n\n\nThe Dean, Professors and Staff of Shenzhen Audencia Business School are honoured to invite Audencians to the China Alumni Night.\n\nThis event will be held on March 22, 2019, from 18:00 to 22:00, in the ballroom of the Shenzhen Venice Hotel, 1F Raytour, Shenzhen.\n\nIt will bring together Audencians from all horizons – alumni, but also students from Nantes, students from Shenzhen, and professors and staff from SABS. It will also be the occasion to celebrate the final leg of Audencia Around the World, organised over 8 days by alumni in different cities across the globe.\n\n \n\n\n\n\n 
BEGIN:VALARM
ACTION:DISPLAY
TRIGGER:-PT60M
DESCRIPTION:Audencia Alumni Around the World in Shenzhen, China
END:VALARM
END:VEVENT
END:VCALENDAR