BEGIN:VCALENDAR
VERSION:2.0
X-WR-TIMEZONE:Europe/Paris
PRODID:-//Audencia//NONSGML v1.0//EN
CALSCALE:GREGORIAN
BEGIN:VEVENT
SUMMARY:Audencia Alumni Around the World in Casablanca, Morocco
DTSTART:20190321T190000
DTEND:20190321T220000
UID:413
DTSTAMP:20260425T223705
LOCATION:Gray Boutique Hotel & Spa Quartier Racine Angle rue Ain El Aouda et rue Abou Al Kacem El Kotbari, Casablanca
DESCRIPTION:Alumni ambassador Otmane Amrani (GE 87) requests the pleasure of the company of Audencia alumni and students in Morocco for a networking evening.\n\nThe Morocco chapter is honoured to welcome Othman El Ferdaous (GE 03), Moroccan ​Secretary of State for Investment to the Minister of Industry, Investment, Trade and the Digital Economy to this event.\n\nJoin him and fellow alumni on 21 March from 19:00 at the Gray Boutique Hotel & Spa in the Racine quarter of Casablanca: Angle rue Ain El Aouda et rue Abou Al Kacem El Kotbari.\n\nPlease note the following message from Yassine Belhoussain, who is organising the event:\n\nL'événement sera sous la forme d'un cocktail dînatoire (petits plats salés-sucrés et boissons) avec 20 minutes de prise de parole de nos principaux intervenants (dont M. le Secrétaire d'Etat). \n\nLe prix de la participation est de 270 dirhams (env. 25 euros). Payable à l'arrivée en espèces. \n\nLe nombre de places est limité. Merci de contacter Yassine directement si vous souhaitez participer: à l'adresse : yassine.belhoussain@gmail.com\n\n \n\n
BEGIN:VALARM
ACTION:DISPLAY
TRIGGER:-PT60M
DESCRIPTION:Audencia Alumni Around the World in Casablanca, Morocco
END:VALARM
END:VEVENT
END:VCALENDAR