BEGIN:VCALENDAR
VERSION:2.0
X-WR-TIMEZONE:Europe/Paris
PRODID:-//Audencia//NONSGML v1.0//EN
CALSCALE:GREGORIAN
BEGIN:VEVENT
SUMMARY:Audencia Alumni Around the World in Ho Chi Minh City, Vietnam
DTSTART:20190321T183000
DTEND:20190321T203000
UID:412
DTSTAMP:20260425T223845
LOCATION:Chanh Bistro Rooftop Saigon, Rooftop level 215 Lý Tự Trọng, Phường Bến Thành, Quận 1, Hồ Chí Minh 70000
DESCRIPTION:Daring to connect east and west.\n\nThe Ho Chi Minh alumni community will meet on 21 March in a western-style bistro on the rooftops.\n\nCome and join them refreshments and a little stargazing at what promises to be an enjoyable moment.\n\n \n\n
BEGIN:VALARM
ACTION:DISPLAY
TRIGGER:-PT60M
DESCRIPTION:Audencia Alumni Around the World in Ho Chi Minh City, Vietnam
END:VALARM
END:VEVENT
END:VCALENDAR