BEGIN:VCALENDAR
VERSION:2.0
X-WR-TIMEZONE:Europe/Paris
PRODID:-//Audencia//NONSGML v1.0//EN
CALSCALE:GREGORIAN
BEGIN:VEVENT
SUMMARY:Audencia Alumni Around the World in Singapore
DTSTART:20190321T183000
DTEND:20190321T213000
UID:411
DTSTAMP:20260425T205946
LOCATION:Artemis Grill & Sky Lounge  #40-01, 138 Market St, CapitaGreen Singapore 048946
DESCRIPTION:Will you dare to join Audencia alumni and friends on 21 March for some amazing skyline views and Mediterranean ambience?\n\n \n\n
BEGIN:VALARM
ACTION:DISPLAY
TRIGGER:-PT60M
DESCRIPTION:Audencia Alumni Around the World in Singapore
END:VALARM
END:VEVENT
END:VCALENDAR