BEGIN:VCALENDAR
VERSION:2.0
X-WR-TIMEZONE:Europe/Paris
PRODID:-//Audencia//NONSGML v1.0//EN
CALSCALE:GREGORIAN
BEGIN:VEVENT
SUMMARY:Webinar: Six ways to accelerate your career - for ambitious women who want to get results fast
DTSTART:20170503T150000
DTEND:20170503T160000
UID:41
DTSTAMP:20260425T223838
LOCATION:Online
DESCRIPTION:\n\nThe Association of MBAs is pleased to announce a new FREE webinar for AMBA Members.\n\nImagine learning six tools that can help you to accelerate your career to the next level.\n\nAre you?\n\n\n	Stuck in a bit of a ‘career’ rut?\n	Ready to take on next role at a more senior level?\n	Tired of being taken for granted?\n	Fed up with doing all of the work and never getting noticed?\n	Being overlooked for promotion?\n	Looking to start planning for a different career?\n	A marzipan manager stuck between the fruitcake and the icing of the corporate cake?\n\n\nIf you’ve answered yes to any of these questions, then this webinar is for you. Emma will take you through a journey of discovery and provide you with some easy to implement tools and insights into how you could propel your career to the next level.\n\n \n\nTo register for this free webinar please log on to the AMBA Community >>\n\nLocation: Online\nDate: 3 May 2017\nTime: 15.00 to 16.00 (Paris time)\n \nThis webinar is accessible to students or alumni of an AMBA-accredited programme at Audencia, i.e., Executive MBA, MBA in Responsible Management or Master in Management (Grande Ecole Programme), but registration is required. Registering as an alum of an AMBA-accredited programme takes only a few minutes. If you have any questions about your eligibility, or how to access the Community, please contact membership@mbaworld.com\n\nGo to www.mbaworld.com/communitysignup \nRead more about the webinar here.\n
BEGIN:VALARM
ACTION:DISPLAY
TRIGGER:-PT60M
DESCRIPTION:Webinar: Six ways to accelerate your career - for ambitious women who want to get results fast
END:VALARM
END:VEVENT
END:VCALENDAR