BEGIN:VCALENDAR
VERSION:2.0
X-WR-TIMEZONE:Europe/Paris
PRODID:-//Audencia//NONSGML v1.0//EN
CALSCALE:GREGORIAN
BEGIN:VEVENT
SUMMARY:Audencia Alumni Around the World in Sydney, Australia
DTSTART:20190320T180000
DTEND:20190320T210000
UID:409
DTSTAMP:20260425T223839
LOCATION:Meet by Bondi Icebergs,  1 Notts Ave, Bondi NSW 2026
DESCRIPTION:Dare to take action and join the Sydnay alumni beach clean!\n\nAlumni from Sydney are coming to the end of their summer. The weather is fine and this gathering is a perfect opportunity to clean up, fix up and conserve our environment!\n\nMeet at the Icebergs on Bondi Beach at 18:00 on 20 March to start the beach clean.\n \n\n\n\n\nIn order for alumni to have an impact on our planet, this event is coordinated with CleanUp Australia, an organisation dedicated to doing just that.\n\n \n\n
BEGIN:VALARM
ACTION:DISPLAY
TRIGGER:-PT60M
DESCRIPTION:Audencia Alumni Around the World in Sydney, Australia
END:VALARM
END:VEVENT
END:VCALENDAR