BEGIN:VCALENDAR
VERSION:2.0
X-WR-TIMEZONE:Europe/Paris
PRODID:-//Audencia//NONSGML v1.0//EN
CALSCALE:GREGORIAN
BEGIN:VEVENT
SUMMARY:Audencia Alumni Around the World in Dublin, Ireland
DTSTART:20190320T190000
DTEND:20190320T220000
UID:408
DTSTAMP:20260425T205909
LOCATION:Chaplins Bar 1-2 Hawkins St, Dublin 2, D02 K590, Ireland
DESCRIPTION:In Dublin’s fair city, alumni and friends are preparing to be daring together.\n\n\nIn order to continue in the celebrations of Women's Day (very important in Ireland), our "daring" will be to focus on women and entrepreneurship. For that, we will have the testimony from Girls In Tech\n\nJoin us for an enjoyable afterwork gathering on 20 March from 19:00 at the Chaplins Bar, 1-2 Hawkins St, Dublin 2.\n \n\n
BEGIN:VALARM
ACTION:DISPLAY
TRIGGER:-PT60M
DESCRIPTION:Audencia Alumni Around the World in Dublin, Ireland
END:VALARM
END:VEVENT
END:VCALENDAR