BEGIN:VCALENDAR
VERSION:2.0
X-WR-TIMEZONE:Europe/Paris
PRODID:-//Audencia//NONSGML v1.0//EN
CALSCALE:GREGORIAN
BEGIN:VEVENT
SUMMARY:Audencia Alumni Around the World in New York, USA
DTSTART:20190320T181500
DTEND:20190320T210000
UID:407
DTSTAMP:20260425T205842
LOCATION:Yoga Union  37 West 28th St, 4th Floor New York, NY 10001
DESCRIPTION:Dare to disconnect in NYC!\n\n\nAlumni in New York are rising to the challenge - without their cellphones...\n\nJoin them on 20 March for 1 hour of yoga followed by an aperitif and some uninterrupted socialising.\n\n\nVENUE:\nYoga Union, 37 West 28th St, 4th Floor, New York, NY 10001\n\nPROGRAMME:\n18:15-18:30 Welcome and registration (signing the waivers)\n18:30-19:30 Yoga session\n19:30-21:00 Apéritif "dinatoire" (in the same Yoga room)\n\nLOGISTICS:\nThere is a small changing room by the yoga room. Nevertheless, it would be preferable to arrive in sports clothes. Comfortable clothes are ideal, no need to buy Lululemon's latest outfit!\n \nCONTACT:\nIf you have any questions, contact New York Privé (Laurène) on +1 347-703-9744\n\n\n \n\nThe yoga class will be the starting point to put your phone on standby (until the following morning) and do some digital detox.\nThe idea is to work on our relationship to time and the yoga class will help to initiate this process.\n\n\n \n\nObjective: clock up participants' number of disconnected hours and share this figure with the rest of the alumni network.\n \n\n
BEGIN:VALARM
ACTION:DISPLAY
TRIGGER:-PT60M
DESCRIPTION:Audencia Alumni Around the World in New York, USA
END:VALARM
END:VEVENT
END:VCALENDAR