BEGIN:VCALENDAR
VERSION:2.0
X-WR-TIMEZONE:Europe/Paris
PRODID:-//Audencia//NONSGML v1.0//EN
CALSCALE:GREGORIAN
BEGIN:VEVENT
SUMMARY:Audencia Alumni Around the World in Munich, Germany
DTSTART:20190319T190000
DTEND:20190319T220000
UID:406
DTSTAMP:20260425T205957
LOCATION:Cordo Bar Ickstattstraße 1A, 80469 München
DESCRIPTION:Dare to widen your network! \n\nFor this Munich evening, alumni from Audencia will be joining hands with alumni from EDHEC and GEM.\n\n\n\n\nWith special guest - none other than Audencia’s favourite professor - Uwe Supper, the connections and friendships will be strong and enduring.\n\nWe will all meet at the Cordo Bar near the Frauenhoferstraße station (Ickstattstraße 1A, 80469 München).\nIt will be a tapas and networking evening, everyone will pay for their drinks when they order. \n\nSpace is limited, so register early!\nPlease spread the word to the newcomers and register by the end of February.\n\nSee you soon,\nAmandine\n\n \n
BEGIN:VALARM
ACTION:DISPLAY
TRIGGER:-PT60M
DESCRIPTION:Audencia Alumni Around the World in Munich, Germany
END:VALARM
END:VEVENT
END:VCALENDAR