BEGIN:VCALENDAR
VERSION:2.0
X-WR-TIMEZONE:Europe/Paris
PRODID:-//Audencia//NONSGML v1.0//EN
CALSCALE:GREGORIAN
BEGIN:VEVENT
SUMMARY:Audencia Alumni Around the World in Geneva, Switzerland
DTSTART:20190319T183000
DTEND:20190319T220000
UID:405
DTSTAMP:20260425T205732
LOCATION:Café Jules Verne Rue Jean-Violette 20, 1205 Geneva
DESCRIPTION:What does daring mean to you? \n\nCome to Geneva’s Café Jules Verne on 19 March to meet alumni and friends but also to embark on a creative / brainstorm session (all will be revealed on the night).\n\n \n
BEGIN:VALARM
ACTION:DISPLAY
TRIGGER:-PT60M
DESCRIPTION:Audencia Alumni Around the World in Geneva, Switzerland
END:VALARM
END:VEVENT
END:VCALENDAR