BEGIN:VCALENDAR
VERSION:2.0
X-WR-TIMEZONE:Europe/Paris
PRODID:-//Audencia//NONSGML v1.0//EN
CALSCALE:GREGORIAN
BEGIN:VEVENT
SUMMARY:Audencia Alumni Around the World in Madrid, Spain
DTSTART:20190318T190000
DTEND:20190318T210000
UID:404
DTSTAMP:20260425T205736
LOCATION:La Piscine, Calle de Campoamor, 5 28004 Madrid Spain
DESCRIPTION:To be an entrepreneur is to have a sense of daring\n\nAlumna Estelle Marie, former president of Audencia Alumni, will welcome alumni and interns to her co-working space “La Piscine” in downtown Madrid on 18 March for an evening of networking around the theme of “what does daring mean to you?”\n\n \n\n\n \n\n 
BEGIN:VALARM
ACTION:DISPLAY
TRIGGER:-PT60M
DESCRIPTION:Audencia Alumni Around the World in Madrid, Spain
END:VALARM
END:VEVENT
END:VCALENDAR