BEGIN:VCALENDAR
VERSION:2.0
X-WR-TIMEZONE:Europe/Paris
PRODID:-//Audencia//NONSGML v1.0//EN
CALSCALE:GREGORIAN
BEGIN:VEVENT
SUMMARY:Audencia Alumni Around the World in Hong Kong, China
DTSTART:20190318T203000
DTEND:20190318T230000
UID:403
DTSTAMP:20260425T223840
LOCATION:The Artist House Fashion Walk, 9 Kingston St, Causeway Bay, Hong Kong
DESCRIPTION:In honour of the learning trip of Audencia’s Executive MBAs to Hong Kong, alumni ambassador Benoit Zoetelief will host a networking evening on 18 March for Hong Kong alumni, interns and MBA participants.\n\nIn line with the theme of daring, guests will be asked to think about how they would answer the question “what does daring mean to you?”\n\n \n
BEGIN:VALARM
ACTION:DISPLAY
TRIGGER:-PT60M
DESCRIPTION:Audencia Alumni Around the World in Hong Kong, China
END:VALARM
END:VEVENT
END:VCALENDAR