BEGIN:VCALENDAR
VERSION:2.0
X-WR-TIMEZONE:Europe/Paris
PRODID:-//Audencia//NONSGML v1.0//EN
CALSCALE:GREGORIAN
BEGIN:VEVENT
SUMMARY:Audencia Alumni Around the World in Beijing, China
DTSTART:20190316T180000
DTEND:20190316T220000
UID:402
DTSTAMP:20260425T205845
LOCATION:Home Plate BBQ  Sanlitun 三里屯 Bd 10, Sanlitun South Courtyard 4, Chaoyang District, Beijing
DESCRIPTION:They trek up hills, they eat French raclette cheese and Mexican tacos, they hold workshops and they make friends.\n\nAudencia alumni in Beijing are an active and dedicated group.\n\nFor their Around the World event, they are daring to be different and, for once, they have decided to hold a gentle, seated, informal afterwork gathering! Come and join them on 16 March from 18:00 at the Home Plate BBQ , Bd 10, Sanlitun South Courtyard 4, Chaoyang District, Beijing\n\n \n\n
BEGIN:VALARM
ACTION:DISPLAY
TRIGGER:-PT60M
DESCRIPTION:Audencia Alumni Around the World in Beijing, China
END:VALARM
END:VEVENT
END:VCALENDAR