BEGIN:VCALENDAR
VERSION:2.0
X-WR-TIMEZONE:Europe/Paris
PRODID:-//Audencia//NONSGML v1.0//EN
CALSCALE:GREGORIAN
BEGIN:VEVENT
SUMMARY:Audencia Alumni Around the World in Chengdu, China
DTSTART:20190315T173000
DTEND:20190315T220000
UID:401
DTSTAMP:20260425T205812
LOCATION:RenHe Spring Hotel, No.19 Section 2 West, Erhuan Road, Qingyang Chengdu
DESCRIPTION:Chengdu is the first Audencia Around the World event. \n\nIn honour of the official nomination of Nick Gong as honorary alumni ambassador to China, Professor André Sobczak, Vice Dean of Audencia, will host a ceremony and a dinner on 15 March for DBA students and alumni in Chengdu:\n\n17:30-18:30 Welcome and refreshments\n18:30-22:00 Dinner\n\n \n\n
BEGIN:VALARM
ACTION:DISPLAY
TRIGGER:-PT60M
DESCRIPTION:Audencia Alumni Around the World in Chengdu, China
END:VALARM
END:VEVENT
END:VCALENDAR