BEGIN:VCALENDAR
VERSION:2.0
X-WR-TIMEZONE:Europe/Paris
PRODID:-//Audencia//NONSGML v1.0//EN
CALSCALE:GREGORIAN
BEGIN:VEVENT
SUMMARY:Educational session in London, UK
DTSTART:20170601T093000
DTEND:20170601T123000
UID:40
DTSTAMP:20260425T223846
LOCATION:
DESCRIPTION:\n\nJoin AMBA in London on 1 June 2017 between 9:30 and 12.30 for this educational event, being hosted in partnership with the Competition and Markets Authority. During the session experts from the CMA will discuss the themes of competition law and economics, cartels – how they are created and how to run a business within the confines of the law.\n \n\nRegister for free today >>\n\n\n\n\n\n\nLocation: The Competition and Markets Authority\nDate: 1 June 2017\nTime: 9.30 to 12.30\nAddress: Victoria House, 37 Southampton Row, London WC1B 4AD\n\nIs this event for me: This event is for students and graduates of AMBA-accredited programmes - Grande Ecole programme, MBA (full-time, executive, EuroMBA).\n\nJoin the AMBA community here.\n\n\n\nRead more about this event here.
BEGIN:VALARM
ACTION:DISPLAY
TRIGGER:-PT60M
DESCRIPTION:Educational session in London, UK
END:VALARM
END:VEVENT
END:VCALENDAR