BEGIN:VCALENDAR
VERSION:2.0
X-WR-TIMEZONE:Europe/Paris
PRODID:-//Audencia//NONSGML v1.0//EN
CALSCALE:GREGORIAN
BEGIN:VEVENT
SUMMARY:Webinar: Success in a digital age
DTSTART:20170309T140000
DTEND:20170309T150000
UID:4
DTSTAMP:20260425T223737
LOCATION:Online
DESCRIPTION:The Association of MBAs is pleased to announce a new FREE webinar for AMBA Members.\n\nIn an ever-changing world, keeping skills and knowledge updated and relevant to one’s profession is more important than ever. Despite this, training courses can be quite expensive and thus present businesses and individuals with tough choices. Luckily, digital platforms have become more advanced and easier to use in the past years allowing for opportunities that could only be dreamed of a decade ago.\n\nDrawing on her own experience at Open University, Eileen Arney will present the challenges and opportunities of designing and delivering online learning, and how Massive Open Online Courses (MOOCs) can be used to support learning in the workplace. Whether you’re in an organisation that needs to take advantage of online learning, or an individual who wants to build courses for others, this webinar is for you!\n\n \n\nTo register for this free webinar please log on to the AMBA Community >>\n\nThis webinar is accessible to students or alumni of an AMBA-accredited programme at Audencia, i.e., Executive MBA, MBA in Responsible Management or Master in Management (Grande Ecole Programme), but registration is required. Registering as an alum of an AMBA-accredited programme takes only a few minutes. If you have any questions about your eligibility, or how to access the Community, please contact membership@mbaworld.com\n\nGo to www.mbaworld.com/communitysignup \n\n\n	complete your personal details\n	select ‘Graduate’ from the ‘I am a’ drop down\n	select your Business School\n	enter the following access key: G25912\n
BEGIN:VALARM
ACTION:DISPLAY
TRIGGER:-PT60M
DESCRIPTION:Webinar: Success in a digital age
END:VALARM
END:VEVENT
END:VCALENDAR